BEGIN:VCALENDAR
VERSION:2.0
PRODID:-//movePROsport e.V. - ECPv6.15.20//NONSGML v1.0//EN
CALSCALE:GREGORIAN
METHOD:PUBLISH
X-WR-CALNAME:movePROsport e.V.
X-ORIGINAL-URL:https://moveprosport.de
X-WR-CALDESC:Veranstaltungen für movePROsport e.V.
REFRESH-INTERVAL;VALUE=DURATION:PT1H
X-Robots-Tag:noindex
X-PUBLISHED-TTL:PT1H
BEGIN:VTIMEZONE
TZID:UTC
BEGIN:STANDARD
TZOFFSETFROM:+0000
TZOFFSETTO:+0000
TZNAME:UTC
DTSTART:20240101T000000
END:STANDARD
END:VTIMEZONE
BEGIN:VEVENT
DTSTART;TZID=UTC:20250206T080000
DTEND;TZID=UTC:20300206T170000
DTSTAMP:20260423T062230
CREATED:20250206T210138Z
LAST-MODIFIED:20250206T210138Z
UID:1723-1738828800-1896627600@moveprosport.de
SUMMARY:Sportgruppe "Walking Football"
DESCRIPTION:Walking Football – Der Spaß an Fußball ohne Stress! \nDu liebst Fußball\, aber intensives Laufen oder hohe Belastungen sind nicht mehr so dein Ding? Dann haben wir genau das Richtige für dich: Walking Football! Diese innovative Trendsportart lässt dich den Fußball in einem ganz neuen\, entspannteren Tempo erleben – ideal für jede Altersgruppe und Fitnesslevel. \nWas ist Walking Football?\nWalking Football ist die perfekte Mischung aus Fußballspaß und schonender Bewegung. Hier gilt eine einfache Regel: Gehen statt Laufen! Du spielst auf dem Feld wie gewohnt\, aber in einem deutlich entspannteren Tempo. So kannst du das Spielgefühl genießen\, ohne dich körperlich zu überlasten. Taktik\, Teamgeist und Ballgefühl – all das kommt auch beim Walking Football nicht zu kurz! \nWarum Walking Football? \n\nFür jedes Alter: Du musst nicht mehr der schnellste Spieler auf dem Platz sein\, um dabei zu sein! Walking Football ist ideal für alle\, die wieder in den Fußball einsteigen oder nach einer gelenkschonenderen Variante suchen.\nGemeinsam Spaß haben: Bei uns steht der Spaß und das Miteinander im Vordergrund. Genieße regelmäßige Bewegung\, fördere deine Ausdauer und bleibe fit – ganz ohne Druck und mit viel Freude am Spiel.\nEinfache Regeln: Keine Sorge – Walking Football ist leicht verständlich und schnell zu erlernen. Also auch\, wenn du noch nicht gespielt hast\, bist du schnell dabei!\n\nWerde Teil unserer Walking Football Abteilung!\nUnsere neue Abteilung für Walking Football bietet dir die Chance\, in einer coolen\, entspannten Runde Fußball zu spielen – ganz ohne den Stress eines herkömmlichen Spiels. \nDein Beitrag: Der monatliche Beitrag für die Abteilung Fußball liegt bei nur 20 Euro.\nJetzt anmelden: Neugierig geworden? Dann melde dich über unser Kontaktformular an und werde Teil unserer neuen\, dynamischen Gruppe! \nMach mit\, hab Spaß und bleib fit – Wir freuen uns\, dich bald auf dem Platz zu sehen!
URL:https://moveprosport.de/veranstaltung/sportgruppe-walking-football/
CATEGORIES:Sportkurs
ATTACH;FMTTYPE=image/png:https://moveprosport.de/wp-content/uploads/2025/02/Fit-durch-die-Partnerschaft.png
END:VEVENT
END:VCALENDAR